BEGIN:VCALENDAR
PRODID:-//AT Content Types//AT Event//EN
VERSION:2.0
METHOD:PUBLISH
BEGIN:VEVENT
DTSTAMP:20260421T081906Z
CREATED:20190705T114724Z
UID:ATEvent-af91aa2ec00745e881c4708852880e3d
LAST-MODIFIED:20190705T115035Z
SUMMARY:Autumn Term Starts
DTSTART:20190813T074500Z
DTEND:20190813T083500Z
CLASS:PUBLIC
END:VEVENT
END:VCALENDAR
