BEGIN:VCALENDAR
PRODID:-//AT Content Types//AT Event//EN
VERSION:2.0
METHOD:PUBLISH
BEGIN:VEVENT
DTSTAMP:20260423T125613Z
CREATED:20160225T125824Z
UID:ATEvent-08af23370e354f1fa4c6115446c54b2e
LAST-MODIFIED:20160225T125833Z
SUMMARY:Baldragon Academy Parent Partnership (BAPP) Meeting
DTSTART:20160308T183000Z
DTEND:20160308T193000Z
DESCRIPTION:The Parent Partnership Group will be meeting in the librar
 y at 6.30pm
CLASS:PUBLIC
END:VEVENT
END:VCALENDAR
