BEGIN:VCALENDAR
PRODID:-//AT Content Types//AT Event//EN
VERSION:2.0
METHOD:PUBLISH
BEGIN:VEVENT
DTSTAMP:20260422T200440Z
CREATED:20190705T114504Z
UID:ATEvent-dde704b0d2e040c985a207b1ab7963c1
LAST-MODIFIED:20190705T114514Z
SUMMARY:In-Service Day
DTSTART:20190812T074500Z
DTEND:20190812T144000Z
CLASS:PUBLIC
END:VEVENT
END:VCALENDAR
