BEGIN:VCALENDAR
PRODID:-//AT Content Types//AT Event//EN
VERSION:2.0
METHOD:PUBLISH
BEGIN:VEVENT
DTSTAMP:20260422T154645Z
CREATED:20181113T102125Z
UID:ATEvent-72c45d5ecb124f9395726e19baf63837
LAST-MODIFIED:20181113T102137Z
SUMMARY:Inset Day
DTSTART:20181116T084500Z
DTEND:20181116T145000Z
DESCRIPTION:School Closed to pupils.
CLASS:PUBLIC
END:VEVENT
END:VCALENDAR
