BEGIN:VCALENDAR
PRODID:-//AT Content Types//AT Event//EN
VERSION:2.0
METHOD:PUBLISH
BEGIN:VEVENT
DTSTAMP:20260423T130827Z
CREATED:20200330T093347Z
UID:ATEvent-f98fc188ea1f451b9591a1be14823447
LAST-MODIFIED:20200330T093404Z
SUMMARY:INSET Day 5
DTSTART:20210506T074500Z
DTEND:20210506T135000Z
LOCATION:Baldragon Academy
CLASS:PUBLIC
END:VEVENT
END:VCALENDAR
