BEGIN:VCALENDAR
PRODID:-//AT Content Types//AT Event//EN
VERSION:1.0
BEGIN:VEVENT
DTSTART:20190313T183000Z
DTEND:20190313T200000Z
DCREATED:20181102T093124Z
UID:ATEvent-71bdd24cd6f74ab4aabbda62788dbae9
SEQUENCE:0
LAST-MODIFIED:20181102T093128Z
SUMMARY:Parent Partnership Meeting
PRIORITY:3
TRANSP:0
END:VEVENT
END:VCALENDAR
