BEGIN:VCALENDAR
PRODID:-//AT Content Types//AT Event//EN
VERSION:2.0
METHOD:PUBLISH
BEGIN:VEVENT
DTSTAMP:20260421T081258Z
CREATED:20210908T093144Z
UID:ATEvent-8a03cc7d81bd4a5f85b32f97a6dbcc2c
LAST-MODIFIED:20210908T093147Z
SUMMARY:S2/3 ratings reports to parents/carers
DTSTART:20211004T073000Z
DTEND:20211008T140000Z
CLASS:PUBLIC
END:VEVENT
END:VCALENDAR
