BEGIN:VCALENDAR
PRODID:-//AT Content Types//AT Event//EN
VERSION:1.0
BEGIN:VEVENT
DTSTART:20191107T170000Z
DTEND:20191107T193000Z
DCREATED:20190827T144444Z
UID:ATEvent-153cbe45debe4cd2ae21e77a8147e8cc
SEQUENCE:0
LAST-MODIFIED:20190827T144829Z
SUMMARY:S5 & S6 Parents Night
PRIORITY:3
TRANSP:0
END:VEVENT
END:VCALENDAR
