BEGIN:VCALENDAR
PRODID:-//AT Content Types//AT Event//EN
VERSION:2.0
METHOD:PUBLISH
BEGIN:VEVENT
DTSTAMP:20260424T020400Z
CREATED:20181017T120852Z
UID:ATEvent-50bffd6328224201a0181a9ef9954508
LAST-MODIFIED:20181017T120858Z
SUMMARY:Summer Term starts
DTSTART:20190415T074000Z
DTEND:20190415T074000Z
CLASS:PUBLIC
END:VEVENT
END:VCALENDAR
