BEGIN:VCALENDAR
PRODID:-//AT Content Types//AT Event//EN
VERSION:2.0
METHOD:PUBLISH
BEGIN:VEVENT
DTSTAMP:20260422T080016Z
CREATED:20190506T074101Z
UID:ATEvent-108ce77689e2446ca86d601c6bea27dc
LAST-MODIFIED:20190506T074107Z
SUMMARY:U15 Cup Final - Dens Park
DTSTART:20190506T183000Z
DTEND:20190506T200000Z
DESCRIPTION:U15 Senior Sports Cup Final  \nBaldragon v. St.John's   (M
 on 6 May\, Dens Park\, 7.30 approx) \nAdmission prices for Tannadice a
 nd Dens are £5 for adults\, £2 for concession
CLASS:PUBLIC
END:VEVENT
END:VCALENDAR
